BEGIN:VCALENDAR
VERSION:2.0
PRODID:Imitheme.com 
BEGIN:VEVENT
UID:20260421T100209734336660
DTSTAMP;TZID=UTC:2026-04-21 10:02:09
DTSTART;TZID=America/Los_Angeles:20260421T100209
DTEND;TZID=America/Los_Angeles:20260421T100209
SUMMARY:Applegate Educators Meet Up
LOCATION:Pacifica\: A Garden in the Siskiyous
DESCRIPTION:The Education Working Group is hosting an Applegate Educators Meet Up and Networking Event Friday, March 13th at Pacifica from 10am- 12pm. People involved in public and private education are invited to share information on educational opportunities, enrichment programs, after school offerings, and more! Come out to meet fellow educators, exchange information, and talk about educational gaps that need filling in the Applegate!
URL:https://agreaterapplegate.org/eventer/applegate-educators-meet-up/
END:VEVENT
END:VCALENDAR
