BEGIN:VCALENDAR
VERSION:2.0
PRODID:Imitheme.com 
BEGIN:VEVENT
UID:20260421T11261471533035
DTSTAMP;TZID=UTC:2026-04-21 11:26:14
DTSTART;TZID=America/Los_Angeles:20260421T112614
DTEND;TZID=America/Los_Angeles:20260421T112614
SUMMARY:Annual Food & Farm Network Gathering
LOCATION:
DESCRIPTION:Save the Date for Thursday, Feb. 26th  Location: Blue Fox Farm Time: TBD This event is for local farmers, ranchers, growers, grocers, restaurateurs, and food entrepreneurs. We\'ll be looking for input on existing and upcoming projects that impact our local food system and focusing on how to direct our efforts towards rural economic vitality. Please RSVP so we can feed everybody!
URL:https://agreaterapplegate.org/eventer/annual-food-farm-network-gathering/
END:VEVENT
END:VCALENDAR
