BEGIN:VCALENDAR
VERSION:2.0
PRODID:Imitheme.com 
BEGIN:VEVENT
UID:20260421T052913380680122
DTSTAMP;TZID=UTC:2026-04-21 05:29:13
DTSTART;TZID=America/Los_Angeles:20260421T052913
DTEND;TZID=America/Los_Angeles:20260421T052913
SUMMARY:Save the Date: Jacksaphine Count(r)y Fair 2026
LOCATION:
DESCRIPTION:Save the dates: September 19-27, 2026 Jacksaphine Count(r)y Fair returns in 2026 for a for a week of events celebrating the beauty, flavors, and diversity of the Applegate Valley shared by Jackson & Josephine Counties. Stay tuned for the full event schedule.
URL:https://agreaterapplegate.org/eventer/save-the-date-jacksaphine-country-fair-2026/
END:VEVENT
END:VCALENDAR
