BEGIN:VCALENDAR
VERSION:2.0
PRODID:Imitheme.com 
BEGIN:VEVENT
UID:20260422T0636421957547716
DTSTAMP;TZID=UTC:2026-04-22 06:36:42
DTSTART;TZID=America/Los_Angeles:20260422T063642
DTEND;TZID=America/Los_Angeles:20260422T063642
SUMMARY:2026 Market Kick-Off
LOCATION:Lindsay Lodge
DESCRIPTION:Join us on May 6th at 7PM for a special fundraiser show inside this historic venue, featuring The Gold Souls as they pass through on their way to the HomeGrown Music Fest in Bend. Let’s give them a warm Applegate welcome and pack the room with good energy! All funds will support the return of the Applegate Evening Concert Series, kicking off May 20th The Lindsay Lodge & Restaurant during the Applegate Evening Market. We’ve got an incredible lineup this year. The full calendar is coming soon. Your support helps keep live music thriving in our beautiful valley. We can’t wait to share the season with you. About the band: Born from a love of groove, grit, and golden-era funk and soul, The Gold Souls are all about connection—on stage and in the crowd. With soaring vocals, a killer rhythm section, and horns that hit just right, their sound is built to move you, body and soul. Equal parts throwback and right-now, The Gold Souls’ sound is tight, vibrant, and impossible not to dance to.
URL:https://agreaterapplegate.org/eventer/2362/
END:VEVENT
END:VCALENDAR
