BEGIN:VCALENDAR
VERSION:2.0
PRODID:Imitheme.com 
BEGIN:VEVENT
UID:20260422T063647173669630
DTSTAMP;TZID=UTC:2026-04-22 06:36:47
DTSTART;TZID=America/Los_Angeles:20260422T063647
DTEND;TZID=America/Los_Angeles:20260422T063647
SUMMARY:Economic Vitality Planning: Outdoor Recreation Focus Group
LOCATION:Cantrall Buckley Park
DESCRIPTION:We are meeting with Applegate businesses and community members to take part in discussions about how we can support businesses and economic vitality in the Valley-- including industry groups that represent specific types of businesses, and also meetings related to location for our Village Hubs of Ruch, Applegate, Williams, Murphy and Wilderville. The result will be an Applegate Economic Vitality Plan that we can use to guide our work and to bring regional business support resources to the Applegate. This focus group is for individuals and businesses in the outdoor recreation field. Tuesday, May 5th from 3:30-5:30 @ Cantrall Buckley Park Pavillion
URL:https://agreaterapplegate.org/eventer/economic-vitality-planning-outdoor-recreation-focus-group/
END:VEVENT
END:VCALENDAR
