BEGIN:VCALENDAR
VERSION:2.0
PRODID:Imitheme.com 
BEGIN:VEVENT
UID:20260422T0644351582132405
DTSTAMP;TZID=UTC:2026-04-22 06:44:35
DTSTART;TZID=America/Los_Angeles:20260422T064435
DTEND;TZID=America/Los_Angeles:20260422T064435
SUMMARY:Economic Vitality Planning: Cannabis Focus Group
LOCATION:Quady North
DESCRIPTION:We are meeting with Applegate businesses and community members to take part in discussions about how we can support businesses and economic vitality in the Valley-- including industry groups that represent specific types of businesses, and also meetings related to location for our Village Hubs of Ruch, Applegate, Williams, Murphy and Wilderville. The result will be an Applegate Economic Vitality Plan that we can use to guide our work and to bring regional business support resources to the Applegate. This focus group is for Cannabis based businesses. Thursday, April 30th from 4-6pm @ Quady North (9800 Hwy 238)
URL:https://agreaterapplegate.org/eventer/economic-vitality-planning-cannabis-focus-group/
END:VEVENT
END:VCALENDAR
