BEGIN:VCALENDAR
VERSION:2.0
PRODID:Imitheme.com 
BEGIN:VEVENT
UID:20260421T0830191115454631
DTSTAMP;TZID=UTC:2026-04-21 08:30:19
DTSTART;TZID=America/Los_Angeles:20260421T083019
DTEND;TZID=America/Los_Angeles:20260421T083019
SUMMARY:Applegate Artists on display at the Medford Library
LOCATION:Medford Library
DESCRIPTION:Stop by the Medford Library and check out a display of local artwork! 🎨   Paintings, weaving, basketry, fiber art, and jewelry all made by Applegate based artists on display April 3 - April 30. The Medford Library is located at 205 South Central Avenue, Medford, OR 97501.   Support your Local Artists AND Libraries! ❤️   #ApplegateArtists #SouthernOregonArt #applegatevalleyoregon #AGreaterApplegate
URL:https://agreaterapplegate.org/eventer/applegate-artists-on-display-at-the-medford-library/
END:VEVENT
END:VCALENDAR
