BEGIN:VCALENDAR
VERSION:2.0
PRODID:Imitheme.com 
BEGIN:VEVENT
UID:20260421T0645041525164970
DTSTAMP;TZID=UTC:2026-04-21 06:45:04
DTSTART;TZID=America/Los_Angeles:20260421T064504
DTEND;TZID=America/Los_Angeles:20260421T064504
SUMMARY:Appegate Artist Working Group Meeting
LOCATION:A Greater Applegate Office
DESCRIPTION:Join us Tuesday, April 7 from 4:15 -5:45pm for the next Applegate Artist Working Group Meeting in the AGA Office or via Zoom!   We have a lot of exciting events planned for this year...please attend if you want to participate and learn more!🎨🎶🪻🍷🖼️   All Applegate Artists are welcome and encouraged to get involved! If you are interested and cannot attend, please email jb@agreaterapplegate.org 👩‍🎨🎨🖌✏️   #ApplegateArtists #ArtinSouthernOregon #applegatevalley #agreaterapplegate
URL:https://agreaterapplegate.org/eventer/appegate-artist-working-group-meeting/
END:VEVENT
END:VCALENDAR
