BEGIN:VCALENDAR
VERSION:2.0
PRODID:Imitheme.com 
BEGIN:VEVENT
UID:20260421T082851207156981
DTSTAMP;TZID=UTC:2026-04-21 08:28:51
DTSTART;TZID=America/Los_Angeles:20260421T082851
DTEND;TZID=America/Los_Angeles:20260421T082851
SUMMARY:AGA Holiday Party
LOCATION:
DESCRIPTION:Join us for a beautiful evening of celebration and community at Vista 222! Tickets are only $15 and include light bites from Chef Kristen Lyon of Jefferson Farm Kitchen, live music from Nathan Green, and a silent auction to support the community-building work of A Greater Applegate. This event is open to the entire Applegate community - we hope to see you there! Tickets available online here, at the AGA Office Monday-Wednesday from 10am-4pm, or by giving us a call at 541-702-2108. Or you can buy your ticket at the door.      
URL:https://agreaterapplegate.org/eventer/aga-holiday-party/
END:VEVENT
END:VCALENDAR
