BEGIN:VCALENDAR
VERSION:2.0
PRODID:Imitheme.com 
BEGIN:VEVENT
UID:20260421T1128392001214468
DTSTAMP;TZID=UTC:2026-04-21 11:28:39
DTSTART;TZID=America/Los_Angeles:20260421T112839
DTEND;TZID=America/Los_Angeles:20260421T112839
SUMMARY:Community Circles of Care
LOCATION:
DESCRIPTION:Join us at the Ruch library for a Community Circles of Care meeting to learn how we can help one another in community. We will discuss some pertinent questions regarding care circles, discuss how to get one started, and have break out groups for locals to gather their circle. After a brief introduction and recap, we\'ll meet in small focus groups to discuss and complete a simple survey and checklist with the goal of beginning to form local and regional Compassionate Community Circles. We\'ll base some of the discussions on the Applegate Valley Community Vision Plan (2022) for a vibrant and livable community.
URL:https://agreaterapplegate.org/eventer/community-circles-of-care/
END:VEVENT
END:VCALENDAR
