BEGIN:VCALENDAR
VERSION:2.0
PRODID:Imitheme.com 
BEGIN:VEVENT
UID:20260421T0956091902973367
DTSTAMP;TZID=UTC:2026-04-21 09:56:09
DTSTART;TZID=America/Los_Angeles:20260421T095609
DTEND;TZID=America/Los_Angeles:20260421T095609
SUMMARY:Last AEM of 2024!
LOCATION:
DESCRIPTION:Join us at the Lindsay Lodge from 4pm-7pm for the final Applegate Evening Market for 2024. The Alquimistas will be playing, and we\'ll have plenty of food and drinks. Come out and celebrate the wonderful season we\'ve had!
URL:https://agreaterapplegate.org/eventer/last-aem-of-2024/
END:VEVENT
END:VCALENDAR
