BEGIN:VCALENDAR
VERSION:2.0
PRODID:Imitheme.com 
BEGIN:VEVENT
UID:20260421T052953849435517
DTSTAMP;TZID=UTC:2026-04-21 05:29:53
DTSTART;TZID=America/Los_Angeles:20260421T052953
DTEND;TZID=America/Los_Angeles:20260421T052953
SUMMARY:Williams Farmers Market
LOCATION:
DESCRIPTION:Join in the joy and bounty of the Williams Farmers Market for a Pepper Roast and live music from Darien Lane!  Buy from local vendors to enjoy delicious fruits, veggies, breads and treats. Dinner options from the Williams Monday Hub. On-site roasted Hatch and sweet peppers from Red Buttes and Latigo Farms. Located on the beautiful seven acre property of the Sugarloaf Community Association where playgrounds, picnic tables, sport court and open grassy field make for a perfect setting to enjoy an evening with friends.               
URL:https://agreaterapplegate.org/eventer/williams-farmers-market/
END:VEVENT
END:VCALENDAR
