BEGIN:VCALENDAR
VERSION:2.0
PRODID:Imitheme.com 
BEGIN:VEVENT
UID:20260421T0232401995649697
DTSTAMP;TZID=UTC:2026-04-21 02:32:40
DTSTART;TZID=America/Los_Angeles:20260421T023240
DTEND;TZID=America/Los_Angeles:20260421T023240
SUMMARY:Art in the Vineyard
LOCATION:
DESCRIPTION:Come out and support local artists while getting a jump on your holiday shopping! There will be live music, art for sale, food, & libations! The vineyard property will be filled with artists of all mediums. Spend your dollars supporting local artists and find something unique to take home. We will have paintings, metalwork, woodwork, jewelry, ceramics, textiles, and more...               Soulful acoustic music by Conrad Pizzas made with local ingredients by The Haul and Charcuterie available from Wooldridge Creek Creamery. Gluten free options available! Come out and celebrate with us for the last event of the Jacksaphine Count(r)y Week!
URL:https://agreaterapplegate.org/eventer/art-in-the-vineyard/
END:VEVENT
END:VCALENDAR
