BEGIN:VCALENDAR
VERSION:2.0
PRODID:Imitheme.com 
BEGIN:VEVENT
UID:20260421T0230291854263481
DTSTAMP;TZID=UTC:2026-04-21 02:30:29
DTSTART;TZID=America/Los_Angeles:20260421T023029
DTEND;TZID=America/Los_Angeles:20260421T023029
SUMMARY:Glass-off Paragliding Showcase
LOCATION:
DESCRIPTION:Come on down to LongSword Vineyard on Friday night for a “Glass-off” sunset viewing of the paragliders flying from Woodrat and landing to join us for dinner and a glass of wine. They will share why Woodrat is one of the best places in the world for the sport and bring a wing to see up close. Plus, Applegate trivia and a raffle to win a a free tandem flight with one of our certified local paraglider pilots, Will Taylor! Gluten-free Latin Food by Besos ~ Music by Jacksaphine ~ Wine, Beer, Cider, and Sodas available for purchase!           
URL:https://agreaterapplegate.org/eventer/glass-off-paragliding-showcase/
END:VEVENT
END:VCALENDAR
