BEGIN:VCALENDAR
VERSION:2.0
PRODID:Imitheme.com 
BEGIN:VEVENT
UID:20260421T0402312085866379
DTSTAMP;TZID=UTC:2026-04-21 04:02:31
DTSTART;TZID=America/Los_Angeles:20260421T040231
DTEND;TZID=America/Los_Angeles:20260421T040231
SUMMARY:Applegate Evening Market Downtown Takeover
LOCATION:
DESCRIPTION:Join the Applegate Evening Market as we takeover downtown and expand out from the Lindsay Lodge to The Station, the Applegate History Museum and more! Music: Desert Hollow comes to us from Maui as suitcase-sized duet for this intimate setting. The two sing mostly original tunes, uniquely captivating songs that are timely and relevant but also harken back to something old. Most folks leave a Desert Hollow show feeling uplifted, grounded, inspired, and maybe with an echo of a contagious West Virginian drawl.           
URL:https://agreaterapplegate.org/eventer/applegate-evening-market-downtown-takeover/
END:VEVENT
END:VCALENDAR
