BEGIN:VCALENDAR
VERSION:2.0
PRODID:Imitheme.com 
BEGIN:VEVENT
UID:20260421T035356953307953
DTSTAMP;TZID=UTC:2026-04-21 03:53:56
DTSTART;TZID=America/Los_Angeles:20260421T035356
DTEND;TZID=America/Los_Angeles:20260421T035356
SUMMARY:Trades Networking Event
LOCATION:
DESCRIPTION:Enjoy a slice of pizza and a beverage on A Greater Applegate at Applegate Country Club on Thursday, September 5th, 5:30pm-7:30pm. Meet other members of the Applegate\'s trade community, learn about the Applegate Valley Business Network, and let us know how we can support your work! WHO Electricians, Plumbers, Carpenters, General Contractors, Fire/Fuel Reduction, Tree Services, Landscapers, Mechanics, Cleaning Service Professionals, Estheticians, Hair Stylists, Massage Therapists, Acupuncturists, Elder Care Professionals, Childcare Professionals, & More! WHENThursday, September 5th5:30pm - 7:30pm WHEREApplegate Country Club
URL:https://agreaterapplegate.org/eventer/trades-networking-event-2/
END:VEVENT
END:VCALENDAR
