BEGIN:VCALENDAR
VERSION:2.0
PRODID:Imitheme.com 
BEGIN:VEVENT
UID:20260421T0954481518827348
DTSTAMP;TZID=UTC:2026-04-21 09:54:48
DTSTART;TZID=America/Los_Angeles:20260421T095448
DTEND;TZID=America/Los_Angeles:20260421T095448
SUMMARY:Applegate Artist Working Group Meeting
LOCATION:
DESCRIPTION:Join us Monday, August 5 from 12 -1:30pm for the next Applegate Artist Working Group Meeting in the AGA office or via Zoom! All Applegate Artists are welcome and encouraged to get involved! If you are interested and can not attend, please email jb@agreaterapplegate.org
URL:https://agreaterapplegate.org/eventer/applegate-artist-working-group-meeting-3/
END:VEVENT
END:VCALENDAR
