BEGIN:VCALENDAR
VERSION:2.0
PRODID:Imitheme.com 
BEGIN:VEVENT
UID:20260421T054842227373389
DTSTAMP;TZID=UTC:2026-04-21 05:48:42
DTSTART;TZID=America/Los_Angeles:20260421T054842
DTEND;TZID=America/Los_Angeles:20260421T054842
SUMMARY:Trades Networking Event
LOCATION:
DESCRIPTION:Enjoy a sandwich and a beverage on A Greater Applegate at Sweets-N-Eats on Thursday, July 25th, 5:30-7:30pm. Meet other members of the Applegate\'s trade community, learn about A Greater Applegate\'s Business Network, and let us know how we can support your work! Current business network members are also welcome to join :)
URL:https://agreaterapplegate.org/eventer/trades-networking-event/
END:VEVENT
END:VCALENDAR
