BEGIN:VCALENDAR
VERSION:2.0
PRODID:Imitheme.com 
BEGIN:VEVENT
UID:20260421T112747704506549
DTSTAMP;TZID=UTC:2026-04-21 11:27:47
DTSTART;TZID=America/Los_Angeles:20260421T112747
DTEND;TZID=America/Los_Angeles:20260421T112747
SUMMARY:Applegate Artists in the Community Gallery at The Grants Pass Museum of Art
LOCATION:
DESCRIPTION:2 groups of Applegate Artists will be exhibiting their work in 2 shows in the Community Gallery at The Grants Pass Museum of Art. Come out to support and celebrate the talent of the Applegate Valley! 1st Exhibition runs July 24 - August 17First Friday: Friday, August 2 - meet the artists!1st Exhibition Artists:Kris AlbroEva CreatureAurora MayJanis Tipton-MohrMiranda CaroligneAngelique Stewart 2nd Exhibition runs August 20 - September 20First Friday: Friday, September 6 - meet the artists!2nd Exhibition Artists:Suzan HatchHeather PaladiniThalia TruesdellColene MilliganGregg PayneDana Barrowjb Palasini
URL:https://agreaterapplegate.org/eventer/applegate-artists-in-the-community-gallery-at-the-grants-pass-museum-of-art/
END:VEVENT
END:VCALENDAR
